BEGIN:VCALENDAR
VERSION:2.0
PRODID:-//wp-events-plugin.com//7.2.3.1//EN
TZID:Europe/Athens
X-WR-TIMEZONE:Europe/Athens
BEGIN:VEVENT
UID:77@wnn.cy
DTSTART;TZID=Europe/Athens:20260221T200000
DTEND;TZID=Europe/Athens:20260221T200000
DTSTAMP:20260205T121947Z
URL:https://wnn.cy/events/%ce%bc%ce%bf%cf%85%cf%83%ce%b9%ce%ba%ce%ad%cf%82
 -%ce%b2%cf%81%ce%b1%ce%b4%ce%b9%ce%ad%cf%82-%ce%bc%ce%b5-%cf%80%ce%bf%ce%b
 9%ce%bf%cf%84%ce%b9%ce%ba%cf%8c-%cf%86%ce%b1%ce%b3%ce%b7%cf%84-2026-02-21/
SUMMARY:Μουσικές βραδιές με ποιοτικό φαγητό 
 το Σάββατο στο Gardens of Doxa
DESCRIPTION:Τα Σάββατα στο Gardens of Doxa είναι αφιε
 ρωμένα στη ζωντανή μουσική!\n\nΗ Στέλλα Στ
 υλιανού μαζί με την ορχήστρα της δημιουρ
 γούν μια ζεστή ατμόσφαιρα\, συνοδεία λαχ
 ταριστών μεζέδων και αγαπημένων γεύσεων
 .\n\nΈνας χώρος ιδανικός για όλες τις ηλικ
 ίες και τις οικογένειες.\n\nΚρατήσεις στο 
 22377666\n\n
END:VEVENT
BEGIN:VTIMEZONE
TZID:Europe/Athens
X-LIC-LOCATION:Europe/Athens
BEGIN:STANDARD
DTSTART:20251026T030000
TZOFFSETFROM:+0300
TZOFFSETTO:+0200
TZNAME:EET
END:STANDARD
END:VTIMEZONE
END:VCALENDAR